BEGIN:VCALENDAR
VERSION:2.0
PRODID:-//Civilian Marksmanship Program - ECPv6.15.18//NONSGML v1.0//EN
CALSCALE:GREGORIAN
METHOD:PUBLISH
X-WR-CALNAME:Civilian Marksmanship Program
X-ORIGINAL-URL:https://thecmp.org
X-WR-CALDESC:Events for Civilian Marksmanship Program
REFRESH-INTERVAL;VALUE=DURATION:PT1H
X-Robots-Tag:noindex
X-PUBLISHED-TTL:PT1H
BEGIN:VTIMEZONE
TZID:America/Detroit
BEGIN:DAYLIGHT
TZOFFSETFROM:-0500
TZOFFSETTO:-0400
TZNAME:EDT
DTSTART:20250309T070000
END:DAYLIGHT
BEGIN:STANDARD
TZOFFSETFROM:-0400
TZOFFSETTO:-0500
TZNAME:EST
DTSTART:20251102T060000
END:STANDARD
BEGIN:DAYLIGHT
TZOFFSETFROM:-0500
TZOFFSETTO:-0400
TZNAME:EDT
DTSTART:20260308T070000
END:DAYLIGHT
BEGIN:STANDARD
TZOFFSETFROM:-0400
TZOFFSETTO:-0500
TZNAME:EST
DTSTART:20261101T060000
END:STANDARD
BEGIN:DAYLIGHT
TZOFFSETFROM:-0500
TZOFFSETTO:-0400
TZNAME:EDT
DTSTART:20270314T070000
END:DAYLIGHT
BEGIN:STANDARD
TZOFFSETFROM:-0400
TZOFFSETTO:-0500
TZNAME:EST
DTSTART:20271107T060000
END:STANDARD
END:VTIMEZONE
BEGIN:VEVENT
DTSTART;TZID=America/Detroit:20260711T000000
DTEND;TZID=America/Detroit:20260712T235959
DTSTAMP:20260424T211234
CREATED:20260420T201644Z
LAST-MODIFIED:20260420T201644Z
UID:10011859-1783728000-1783900799@thecmp.org
SUMMARY:Haven Williams Conventional Prone & F-Class - CMP EIC Match (3200)
DESCRIPTION:
URL:https://thecmp.org/event/haven-williams-conventional-prone-f-class-cmp-eic-match-3200/
LOCATION:Saint Joseph Valley Rifle and Pistol Association\, Bristol\, IN
GEO:41.7167388;-85.8173723
END:VEVENT
END:VCALENDAR