BEGIN:VCALENDAR
VERSION:2.0
PRODID:-//Civilian Marksmanship Program - ECPv6.15.18//NONSGML v1.0//EN
CALSCALE:GREGORIAN
METHOD:PUBLISH
X-WR-CALNAME:Civilian Marksmanship Program
X-ORIGINAL-URL:https://thecmp.org
X-WR-CALDESC:Events for Civilian Marksmanship Program
REFRESH-INTERVAL;VALUE=DURATION:PT1H
X-Robots-Tag:noindex
X-PUBLISHED-TTL:PT1H
BEGIN:VTIMEZONE
TZID:America/Detroit
BEGIN:DAYLIGHT
TZOFFSETFROM:-0500
TZOFFSETTO:-0400
TZNAME:EDT
DTSTART:20250309T070000
END:DAYLIGHT
BEGIN:STANDARD
TZOFFSETFROM:-0400
TZOFFSETTO:-0500
TZNAME:EST
DTSTART:20251102T060000
END:STANDARD
BEGIN:DAYLIGHT
TZOFFSETFROM:-0500
TZOFFSETTO:-0400
TZNAME:EDT
DTSTART:20260308T070000
END:DAYLIGHT
BEGIN:STANDARD
TZOFFSETFROM:-0400
TZOFFSETTO:-0500
TZNAME:EST
DTSTART:20261101T060000
END:STANDARD
BEGIN:DAYLIGHT
TZOFFSETFROM:-0500
TZOFFSETTO:-0400
TZNAME:EDT
DTSTART:20270314T070000
END:DAYLIGHT
BEGIN:STANDARD
TZOFFSETFROM:-0400
TZOFFSETTO:-0500
TZNAME:EST
DTSTART:20271107T060000
END:STANDARD
END:VTIMEZONE
BEGIN:VEVENT
DTSTART;TZID=America/Detroit:20260524T000000
DTEND;TZID=America/Detroit:20260524T235959
DTSTAMP:20260425T080440
CREATED:20260420T201621Z
LAST-MODIFIED:20260420T201621Z
UID:10011856-1779580800-1779667199@thecmp.org
SUMMARY:Lorain Rifle & Pistol Club 2026 Rimfire Sporter Match
DESCRIPTION:
URL:https://thecmp.org/event/lorain-rifle-pistol-club-2026-rimfire-sporter-match/
LOCATION:Lorain Rifle and Pistol Club\, Amherst\, OH
GEO:41.3978217;-82.2223774
END:VEVENT
END:VCALENDAR