BEGIN:VCALENDAR
VERSION:2.0
PRODID:-//Civilian Marksmanship Program - ECPv6.15.18//NONSGML v1.0//EN
CALSCALE:GREGORIAN
METHOD:PUBLISH
X-WR-CALNAME:Civilian Marksmanship Program
X-ORIGINAL-URL:https://thecmp.org
X-WR-CALDESC:Events for Civilian Marksmanship Program
REFRESH-INTERVAL;VALUE=DURATION:PT1H
X-Robots-Tag:noindex
X-PUBLISHED-TTL:PT1H
BEGIN:VTIMEZONE
TZID:America/Detroit
BEGIN:DAYLIGHT
TZOFFSETFROM:-0500
TZOFFSETTO:-0400
TZNAME:EDT
DTSTART:20250309T070000
END:DAYLIGHT
BEGIN:STANDARD
TZOFFSETFROM:-0400
TZOFFSETTO:-0500
TZNAME:EST
DTSTART:20251102T060000
END:STANDARD
BEGIN:DAYLIGHT
TZOFFSETFROM:-0500
TZOFFSETTO:-0400
TZNAME:EDT
DTSTART:20260308T070000
END:DAYLIGHT
BEGIN:STANDARD
TZOFFSETFROM:-0400
TZOFFSETTO:-0500
TZNAME:EST
DTSTART:20261101T060000
END:STANDARD
BEGIN:DAYLIGHT
TZOFFSETFROM:-0500
TZOFFSETTO:-0400
TZNAME:EDT
DTSTART:20270314T070000
END:DAYLIGHT
BEGIN:STANDARD
TZOFFSETFROM:-0400
TZOFFSETTO:-0500
TZNAME:EST
DTSTART:20271107T060000
END:STANDARD
END:VTIMEZONE
BEGIN:VEVENT
DTSTART;TZID=America/Detroit:20261018T000000
DTEND;TZID=America/Detroit:20261018T235959
DTSTAMP:20260422T091142
CREATED:20260302T202100Z
LAST-MODIFIED:20260302T202100Z
UID:10011438-1792281600-1792367999@thecmp.org
SUMMARY:Langhorne Rod and Gun Club Highpower Match
DESCRIPTION:
URL:https://thecmp.org/event/langhorne-rod-and-gun-club-highpower-match-7/
LOCATION:Langhorne Rod & Gun Club\, Holland\, PA
GEO:40.1995865;-74.9724799
END:VEVENT
END:VCALENDAR