BEGIN:VCALENDAR
VERSION:2.0
PRODID:-//Civilian Marksmanship Program - ECPv6.15.18//NONSGML v1.0//EN
CALSCALE:GREGORIAN
METHOD:PUBLISH
X-WR-CALNAME:Civilian Marksmanship Program
X-ORIGINAL-URL:https://thecmp.org
X-WR-CALDESC:Events for Civilian Marksmanship Program
REFRESH-INTERVAL;VALUE=DURATION:PT1H
X-Robots-Tag:noindex
X-PUBLISHED-TTL:PT1H
BEGIN:VTIMEZONE
TZID:America/Detroit
BEGIN:DAYLIGHT
TZOFFSETFROM:-0500
TZOFFSETTO:-0400
TZNAME:EDT
DTSTART:20250309T070000
END:DAYLIGHT
BEGIN:STANDARD
TZOFFSETFROM:-0400
TZOFFSETTO:-0500
TZNAME:EST
DTSTART:20251102T060000
END:STANDARD
BEGIN:DAYLIGHT
TZOFFSETFROM:-0500
TZOFFSETTO:-0400
TZNAME:EDT
DTSTART:20260308T070000
END:DAYLIGHT
BEGIN:STANDARD
TZOFFSETFROM:-0400
TZOFFSETTO:-0500
TZNAME:EST
DTSTART:20261101T060000
END:STANDARD
BEGIN:DAYLIGHT
TZOFFSETFROM:-0500
TZOFFSETTO:-0400
TZNAME:EDT
DTSTART:20270314T070000
END:DAYLIGHT
BEGIN:STANDARD
TZOFFSETFROM:-0400
TZOFFSETTO:-0500
TZNAME:EST
DTSTART:20271107T060000
END:STANDARD
END:VTIMEZONE
BEGIN:VEVENT
DTSTART;TZID=America/Detroit:20260614T000000
DTEND;TZID=America/Detroit:20260614T235959
DTSTAMP:20260423T081427
CREATED:20260413T201650Z
LAST-MODIFIED:20260413T201650Z
UID:10011807-1781395200-1781481599@thecmp.org
SUMMARY:Forbes Rifle Club EIC Service Rifle Match
DESCRIPTION:
URL:https://thecmp.org/event/forbes-rifle-club-eic-service-rifle-match/
LOCATION:Forbes Rifle and Pistol Club\, Albany\, NY
GEO:42.6518095;-73.7544707
END:VEVENT
END:VCALENDAR