BEGIN:VCALENDAR
VERSION:2.0
PRODID:-//Civilian Marksmanship Program - ECPv6.15.18//NONSGML v1.0//EN
CALSCALE:GREGORIAN
METHOD:PUBLISH
X-WR-CALNAME:Civilian Marksmanship Program
X-ORIGINAL-URL:https://thecmp.org
X-WR-CALDESC:Events for Civilian Marksmanship Program
REFRESH-INTERVAL;VALUE=DURATION:PT1H
X-Robots-Tag:noindex
X-PUBLISHED-TTL:PT1H
BEGIN:VTIMEZONE
TZID:America/Detroit
BEGIN:DAYLIGHT
TZOFFSETFROM:-0500
TZOFFSETTO:-0400
TZNAME:EDT
DTSTART:20250309T070000
END:DAYLIGHT
BEGIN:STANDARD
TZOFFSETFROM:-0400
TZOFFSETTO:-0500
TZNAME:EST
DTSTART:20251102T060000
END:STANDARD
BEGIN:DAYLIGHT
TZOFFSETFROM:-0500
TZOFFSETTO:-0400
TZNAME:EDT
DTSTART:20260308T070000
END:DAYLIGHT
BEGIN:STANDARD
TZOFFSETFROM:-0400
TZOFFSETTO:-0500
TZNAME:EST
DTSTART:20261101T060000
END:STANDARD
BEGIN:DAYLIGHT
TZOFFSETFROM:-0500
TZOFFSETTO:-0400
TZNAME:EDT
DTSTART:20270314T070000
END:DAYLIGHT
BEGIN:STANDARD
TZOFFSETFROM:-0400
TZOFFSETTO:-0500
TZNAME:EST
DTSTART:20271107T060000
END:STANDARD
END:VTIMEZONE
BEGIN:VEVENT
DTSTART;TZID=America/Detroit:20260404T000000
DTEND;TZID=America/Detroit:20260404T235959
DTSTAMP:20260422T221424
CREATED:20260217T201619Z
LAST-MODIFIED:20260217T201619Z
UID:10010532-1775260800-1775347199@thecmp.org
SUMMARY:Delran Junior Marksman Corp. Inc 2026 Garand/Modern Military Match
DESCRIPTION:
URL:https://thecmp.org/event/delran-junior-marksman-corp-inc-2026-garand-modern-military-match-2/
LOCATION:Delran Jr. Marksman Club Inc.\, Delran\, NJ
GEO:40.0145322;-74.9568631
END:VEVENT
END:VCALENDAR